BEGIN:VCALENDAR
VERSION:2.0
CALSCALE:GREGORIAN
PRODID:-//CALENDARSERVER.ORG//NONSGML Version 1//EN
METHOD:REQUEST
BEGIN:VTIMEZONE
TZID:America/Lima
X-LIC-LOCATION:America/Lima
BEGIN:STANDARD
DTSTART:19080728T000000
RDATE;VALUE=DATE-TIME:19080728T000000
TZNAME:PEST
TZOFFSETFROM:-0508
TZOFFSETTO:-0500
END:STANDARD
BEGIN:DAYLIGHT
DTSTART:19380101T000000
RDATE;VALUE=DATE-TIME:19380101T000000
RDATE;VALUE=DATE-TIME:19900101T000000
RDATE;VALUE=DATE-TIME:19940101T000000
TZNAME:PEST
TZOFFSETFROM:-0500
TZOFFSETTO:-0400
END:DAYLIGHT
BEGIN:STANDARD
DTSTART:19380401T000000
RDATE;VALUE=DATE-TIME:19380401T000000
RDATE;VALUE=DATE-TIME:19900401T000000
RDATE;VALUE=DATE-TIME:19940401T000000
TZNAME:PET
TZOFFSETFROM:-0400
TZOFFSETTO:-0500
END:STANDARD
BEGIN:DAYLIGHT
DTSTART:19380925T000000
RRULE:FREQ=YEARLY;UNTIL=19390924T050000Z;BYDAY=-1SU;BYMONTH=9
TZNAME:PEST
TZOFFSETFROM:-0500
TZOFFSETTO:-0400
END:DAYLIGHT
BEGIN:STANDARD
DTSTART:19390326T000000
RRULE:FREQ=YEARLY;UNTIL=19400324T040000Z;BYDAY=SU;
 BYMONTHDAY=24,25,26,27,28,29,30;BYMONTH=3
TZNAME:PET
TZOFFSETFROM:-0400
TZOFFSETTO:-0500
END:STANDARD
BEGIN:DAYLIGHT
DTSTART:19860101T000000
RRULE:FREQ=YEARLY;UNTIL=19870101T050000Z;BYMONTH=1
TZNAME:PEST
TZOFFSETFROM:-0500
TZOFFSETTO:-0400
END:DAYLIGHT
BEGIN:STANDARD
DTSTART:19860401T000000
RRULE:FREQ=YEARLY;UNTIL=19870401T040000Z;BYMONTH=4
TZNAME:PET
TZOFFSETFROM:-0400
TZOFFSETTO:-0500
END:STANDARD
END:VTIMEZONE
BEGIN:VEVENT
CREATED:20120806T170209Z
UID:C757EF99-FDBC-4E11-BF4C-F37A2F401279
DTEND;TZID=America/Lima:20120809T190000
ATTENDEE;CN=hackaton-del-agua@googlegroups.com;CUTYPE=INDIVIDUAL;
 EMAIL=hackaton-del-agua@googlegroups.com;PARTSTAT=NEEDS-ACTION;RSVP=TRUE:
 mailto:hackaton-del-agua@googlegroups.com
ATTENDEE;CN=hackerismocivico@googlegroups.com;CUTYPE=INDIVIDUAL;
 EMAIL=hackerismocivico@googlegroups.com;PARTSTAT=NEEDS-ACTION;RSVP=TRUE:
 mailto:hackerismocivico@googlegroups.com
ATTENDEE;CN=todos;CUTYPE=INDIVIDUAL;EMAIL=todos@somosazucar.org;
 PARTSTAT=NEEDS-ACTION;RSVP=TRUE:mailto:todos@somosazucar.org
ATTENDEE;CN=Yehude Simon;CUTYPE=INDIVIDUAL;PARTSTAT=ACCEPTED;
 EMAIL=yehude@mac.com:mailto:yehude@mac.com
TRANSP:OPAQUE
SUMMARY:Reunión Hackatón Saneamiento
DTSTART;TZID=America/Lima:20120809T170000
SEQUENCE:7
DTSTAMP:20120806T170400Z
ORGANIZER;CN=Yehude Simon;EMAIL=yehude@mac.com:mailto:
 7-AmWalnviUiIS6fV1sTJwczCiR3eSc-J4QykJkYkAegQXagPCtcXNTjT-QYVPgj@imip.me.c
 om
END:VEVENT
END:VCALENDAR