BEGIN:VCALENDAR
VERSION:2.0
PRODID:-//Doodle AG//Doodle//EN
CALSCALE:GREGORIAN
METHOD:PUBLISH
BEGIN:VEVENT
ORGANIZER:MAILTO:mailer@doodle.com
SUMMARY:[ANNOUNCE] Triage meeting to review untriaged bugs [Doodle]
X-MICROSOFT-CDO-BUSYSTATUS:BUSY
URL:http://doodle.com/x43bufstd955rrgf
LOCATION:irc.freenode.net #sugar-meeting
DESCRIPTION:Initiated by Rachel Finger\nI am organizing a triage meeting to review/assign untriaged bugs at bugs.sugarlabs.org\n\n\nParticipants:\n- Walter Bender\n- Rachel Finger\n- James Cameron\n\n\nhttp://doodle.com/x43bufstd955rrgf
DTSTAMP:20131201T003725Z
UID:13859334000001196178946@doodle.biz
DTSTART:20131201T213000Z
DTEND:20131201T223000Z
END:VEVENT
END:VCALENDAR
