BEGIN:VCALENDAR
PRODID:-//Google Inc//Google Calendar 70.9054//EN
VERSION:2.0
CALSCALE:GREGORIAN
METHOD:REQUEST
BEGIN:VEVENT
DTSTART:20110412T140000Z
DTEND:20110412T150000Z
DTSTAMP:20110411T214047Z
ORGANIZER;CN=Sean Daly:mailto:sdaly@sugarlabs.org
UID:mtra1dp8ls4rkjmggtrbkk8np8@google.com
ATTENDEE;CUTYPE=INDIVIDUAL;ROLE=REQ-PARTICIPANT;PARTSTAT=ACCEPTED;RSVP=TRUE
 ;CN=Sean Daly;X-NUM-GUESTS=0:mailto:sdaly@sugarlabs.org
ATTENDEE;CUTYPE=INDIVIDUAL;ROLE=REQ-PARTICIPANT;PARTSTAT=NEEDS-ACTION;RSVP=
 TRUE;CN=marketing@lists.sugarlabs.org;X-NUM-GUESTS=0:mailto:marketing@lists
 .sugarlabs.org
CREATED:20110411T214046Z
DESCRIPTION:Proposed agenda:\n\n* Vuelta Ciclista del Uruguay microsite (cf
 . Sunday's meeting: http://meeting.sugarlabs.org/sugar-meeting/meetings/201
 1-04-10T16:03:46)\n* Press release: angles\, objectives - deadline Tues 6PM
  EST for Friday morning distribution!\n* Press contact softphone problem - 
 urgent cf. above\n\nView your event at http://www.google.com/calendar/event
 ?action=VIEW&eid=bXRyYTFkcDhsczRya2ptZ2d0cmJrazhucDggbWFya2V0aW5nQGxpc3RzLn
 N1Z2FybGFicy5vcmc&tok=MTkjc2RhbHlAc3VnYXJsYWJzLm9yZzAxOTM4NTk3OGZjNDdlYmVkO
 DQ0NTdjYjdkNGJjOTRiYzViYThmNzA&ctz=Europe%2FBrussels&hl=en.
LAST-MODIFIED:20110411T214046Z
LOCATION:Internet Relay Chat: irc.freenode.net (channel: #sugar-meeting)
SEQUENCE:0
STATUS:CONFIRMED
SUMMARY:Sugar Labs Marketing Meeting
TRANSP:OPAQUE
END:VEVENT
END:VCALENDAR
