BEGIN:VCALENDAR
PRODID:-//Google Inc//Google Calendar 70.9054//EN
VERSION:2.0
CALSCALE:GREGORIAN
METHOD:REQUEST
BEGIN:VEVENT
DTSTART:20110405T140000Z
DTEND:20110405T150000Z
DTSTAMP:20110404T215349Z
ORGANIZER;CN=Sean Daly:mailto:sdaly@sugarlabs.org
UID:ac9h54j4imoc76lc97bkfrp6bc@google.com
ATTENDEE;CUTYPE=INDIVIDUAL;ROLE=REQ-PARTICIPANT;PARTSTAT=ACCEPTED;RSVP=TRUE
 ;CN=Sean Daly;X-NUM-GUESTS=0:mailto:sdaly@sugarlabs.org
ATTENDEE;CUTYPE=INDIVIDUAL;ROLE=REQ-PARTICIPANT;PARTSTAT=NEEDS-ACTION;RSVP=
 TRUE;CN=marketing@lists.sugarlabs.org;X-NUM-GUESTS=0:mailto:marketing@lists
 .sugarlabs.org
CREATED:20110404T215348Z
DESCRIPTION:Proposed agenda:\n\n* Minisite/PR push around Venezuela race - 
 status\, deadlines\n* Revamp of Sugar Labs website - helping Mike & JT canv
 ass for content\n* PR softphone problem (we were dumped by Google)\n* Merch
 andising ("swag")\n* Other topics?\n\nFor previous meeting logs\, see: http
 ://wiki.sugarlabs.org/go/Marketing_Team/Meetings\nWorldclock online time ca
 lculator: http://www.timeanddate.com/worldclock/converter.html\nIRC Help: h
 ttp://wiki.sugarlabs.org/go/Sugar_Labs/Contacts#IRC.2C_Internet_Relay_Chat\
 nView your event at http://www.google.com/calendar/event?action=VIEW&eid=YW
 M5aDU0ajRpbW9jNzZsYzk3YmtmcnA2YmMgbWFya2V0aW5nQGxpc3RzLnN1Z2FybGFicy5vcmc&t
 ok=MTkjc2RhbHlAc3VnYXJsYWJzLm9yZzRlOTM3ZDIwNDYwMWZlMDExNGUwNzVkNGU3ZDcwNWI4
 NDFmODA2MGM&ctz=Europe%2FBrussels&hl=en.
LAST-MODIFIED:20110404T215348Z
LOCATION:Internet Relay Chat: irc.freenode.net (channel: #sugar-meeting)
SEQUENCE:0
STATUS:CONFIRMED
SUMMARY:Sugar Labs Marketing Meeting
TRANSP:OPAQUE
END:VEVENT
END:VCALENDAR
