BEGIN:VCALENDAR
PRODID:-//Google Inc//Google Calendar 70.9054//EN
VERSION:2.0
CALSCALE:GREGORIAN
METHOD:REQUEST
BEGIN:VEVENT
DTSTART:20110329T140000Z
DTEND:20110329T150000Z
DTSTAMP:20110328T200521Z
ORGANIZER;CN=Sean Daly:mailto:sdaly@sugarlabs.org
UID:vbtjuulm1i1icdta2h2qh9cjms@google.com
ATTENDEE;CUTYPE=INDIVIDUAL;ROLE=REQ-PARTICIPANT;PARTSTAT=ACCEPTED;RSVP=TRUE
 ;CN=sdaly@sugarlabs.org;X-NUM-GUESTS=0:mailto:sdaly@sugarlabs.org
ATTENDEE;CUTYPE=INDIVIDUAL;ROLE=REQ-PARTICIPANT;PARTSTAT=NEEDS-ACTION;RSVP=
 TRUE;CN=marketing@lists.sugarlabs.org;X-NUM-GUESTS=0:mailto:marketing@lists
 .sugarlabs.org
CREATED:20110328T200201Z
DESCRIPTION:Proposed agenda:\n\n* Minisite/PR push around Venezuela race\n*
  Revamp of Sugar Labs website\n* other topics?\n\nFor previous meeting logs
 \, see: http://wiki.sugarlabs.org/go/Marketing_Team/Meetings\nWorldclock on
 line time calculator: http://www.timeanddate.com/worldclock/converter.html\
 nIRC Help: http://wiki.sugarlabs.org/go/Sugar_Labs/Contacts#IRC.2C_Internet
 _Relay_Chat\n\nView your event at http://www.google.com/calendar/event?acti
 on=VIEW&eid=dmJ0anV1bG0xaTFpY2R0YTJoMnFoOWNqbXMgbWFya2V0aW5nQGxpc3RzLnN1Z2F
 ybGFicy5vcmc&tok=MTkjc2RhbHlAc3VnYXJsYWJzLm9yZzM4YzQ2MjFiODU2ZDMxZDAwMDkwOG
 MxZDExNzMyMzgzOGFjMTg1MzE&ctz=Europe%2FBrussels&hl=en.
LAST-MODIFIED:20110328T200520Z
LOCATION:Internet Relay Chat: irc.freenode.net (channel: #sugar-meeting)
SEQUENCE:0
STATUS:CONFIRMED
SUMMARY:Sugar Labs Marketing Meeting
TRANSP:OPAQUE
END:VEVENT
END:VCALENDAR
