BEGIN:VCALENDAR
PRODID:-//Google Inc//Google Calendar 70.9054//EN
VERSION:2.0
CALSCALE:GREGORIAN
METHOD:REQUEST
BEGIN:VEVENT
DTSTART:20100601T140000Z
DTEND:20100601T150000Z
DTSTAMP:20100601T124847Z
ORGANIZER;CN=Sean Daly:mailto:sdaly@sugarlabs.org
UID:r2i52habkb7uub0p7vndvc57s4@google.com
ATTENDEE;CUTYPE=INDIVIDUAL;ROLE=REQ-PARTICIPANT;PARTSTAT=ACCEPTED;RSVP=TRUE
 ;CN=sdaly@sugarlabs.org;X-NUM-GUESTS=0:mailto:sdaly@sugarlabs.org
ATTENDEE;CUTYPE=INDIVIDUAL;ROLE=REQ-PARTICIPANT;PARTSTAT=NEEDS-ACTION;RSVP=
 TRUE;CN=marketing@lists.sugarlabs.org;X-NUM-GUESTS=0:mailto:marketing@lists
 .sugarlabs.org
CREATED:20100601T124649Z
DESCRIPTION:Proposed agenda:\n\n* Sugar on a Stick Mirabelle media launch a
 t LinuxTag\n\nFor previous meeting logs\, see: http://wiki.sugarlabs.org/go
 /Marketing_Team/Meetings\nWorldclock online time calculator: http://www.tim
 eanddate.com/worldclock/converter.html\nIRC Help: http://wiki.sugarlabs.org
 /go/Sugar_Labs/Contacts#IRC.2C_Internet_Relay_Chat\nView your event at http
 ://www.google.com/calendar/event?action=VIEW&eid=cjJpNTJoYWJrYjd1dWIwcDd2bm
 R2YzU3czQgbWFya2V0aW5nQGxpc3RzLnN1Z2FybGFicy5vcmc&tok=MTkjc2RhbHlAc3VnYXJsY
 WJzLm9yZzk1NDlkMWNiNjg0ZDQ0OTJlMGE4OTIzMjg2NzMwNGFlMTFmMmEyMjg&ctz=Europe%2
 FBrussels&hl=en.
LAST-MODIFIED:20100601T124847Z
LOCATION:IRC: irc.freenode.net (channel: #sugar-meeting)
SEQUENCE:0
STATUS:CONFIRMED
SUMMARY:Sugar Labs Marketing Meeting
TRANSP:OPAQUE
END:VEVENT
END:VCALENDAR
