BEGIN:VCALENDAR
PRODID:-//Google Inc//Google Calendar 70.9054//EN
VERSION:2.0
CALSCALE:GREGORIAN
METHOD:REQUEST
BEGIN:VEVENT
DTSTART:20100427T140000Z
DTEND:20100427T150000Z
DTSTAMP:20100427T134012Z
ORGANIZER;CN=Sean Daly:mailto:sdaly@sugarlabs.org
UID:uqb8k1n48mvikt5rcg59k7u1ts@google.com
ATTENDEE;CUTYPE=INDIVIDUAL;ROLE=REQ-PARTICIPANT;PARTSTAT=ACCEPTED;RSVP=TRUE
 ;CN=sdaly@sugarlabs.org;X-NUM-GUESTS=0:mailto:sdaly@sugarlabs.org
ATTENDEE;CUTYPE=INDIVIDUAL;ROLE=REQ-PARTICIPANT;PARTSTAT=NEEDS-ACTION;RSVP=
 TRUE;CN=marketing@lists.sugarlabs.org;X-NUM-GUESTS=0:mailto:marketing@lists
 .sugarlabs.org
CREATED:20100427T133714Z
DESCRIPTION:Agenda:\n\n* April 29th press release\n\nFor previous meeting l
 ogs\, see: http://wiki.sugarlabs.org/go/Marketing_Team/Meetings\nWorldclock
  online time calculator: http://www.timeanddate.com/worldclock/converter.ht
 ml\nIRC Help: http://wiki.sugarlabs.org/go/Sugar_Labs/Contacts#IRC.2C_Inter
 net_Relay_Chat\nView your event at http://www.google.com/calendar/event?act
 ion=VIEW&eid=dXFiOGsxbjQ4bXZpa3Q1cmNnNTlrN3UxdHMgbWFya2V0aW5nQGxpc3RzLnN1Z2
 FybGFicy5vcmc&tok=MTkjc2RhbHlAc3VnYXJsYWJzLm9yZzgwZDU1MWU4ZTdmNGRjMDdiNGM1Z
 GIzOTlkMzBlNTM1ZTBmYTU2MTQ&ctz=Europe%2FBrussels&hl=en.
LAST-MODIFIED:20100427T134011Z
LOCATION:IRC: irc.freenode.net (channel: #sugar-meeting)
SEQUENCE:0
STATUS:CONFIRMED
SUMMARY:Sugar Labs Marketing Meeting
TRANSP:OPAQUE
END:VEVENT
END:VCALENDAR
