BEGIN:VCALENDAR
PRODID:-//Google Inc//Google Calendar 70.9054//EN
VERSION:2.0
CALSCALE:GREGORIAN
METHOD:REQUEST
BEGIN:VEVENT
DTSTART:20100216T150000Z
DTEND:20100216T160000Z
DTSTAMP:20100216T140312Z
ORGANIZER;CN=Sean Daly:mailto:sdaly@sugarlabs.org
UID:54qm476imfvaumhlps463opsuc@google.com
ATTENDEE;CUTYPE=INDIVIDUAL;ROLE=REQ-PARTICIPANT;PARTSTAT=ACCEPTED;RSVP=TRUE
 ;CN=sdaly@sugarlabs.org;X-NUM-GUESTS=0:mailto:sdaly@sugarlabs.org
ATTENDEE;CUTYPE=INDIVIDUAL;ROLE=REQ-PARTICIPANT;PARTSTAT=NEEDS-ACTION;RSVP=
 TRUE;CN=marketing@lists.sugarlabs.org;X-NUM-GUESTS=0:mailto:marketing@lists
 .sugarlabs.org
CREATED:20100216T135658Z
DESCRIPTION:Proposed agenda:\n\n* joint PR with OLPC-A\n* 2010 goals\n\nFor
  previous meeting logs\, see: http://wiki.sugarlabs.org/go/Marketing_Team/M
 eetings\nWorldclock online time calculator: http://www.timeanddate.com/worl
 dclock/converter.html\nIRC Help: http://wiki.sugarlabs.org/go/Sugar_Labs/Co
 ntacts#IRC.2C_Internet_Relay_Chat\nView your event at http://www.google.com
 /calendar/event?action=VIEW&eid=NTRxbTQ3NmltZnZhdW1obHBzNDYzb3BzdWMgbWFya2V
 0aW5nQGxpc3RzLnN1Z2FybGFicy5vcmc&tok=MTkjc2RhbHlAc3VnYXJsYWJzLm9yZzIxZDdjYW
 NiNjU0Zjg5MzRkNWZjNDQ3MGIyMTczNDI4OTdiMjYxOWI&ctz=Europe%2FBrussels&hl=en.
LAST-MODIFIED:20100216T140311Z
LOCATION:IRC: irc.freenode.net (channel: #sugar-meeting)
SEQUENCE:0
STATUS:CONFIRMED
SUMMARY:Sugar Labs Marketing Meeting
TRANSP:OPAQUE
END:VEVENT
END:VCALENDAR
