BEGIN:VCALENDAR
PRODID:-//Google Inc//Google Calendar 70.9054//EN
VERSION:2.0
CALSCALE:GREGORIAN
METHOD:REQUEST
BEGIN:VEVENT
DTSTART:20100119T150000Z
DTEND:20100119T160000Z
DTSTAMP:20100119T123543Z
ORGANIZER;CN=Sean Daly:mailto:sdaly@sugarlabs.org
UID:cdo3jkqjrc2kfu1r2gf0h2b4t8@google.com
ATTENDEE;CUTYPE=INDIVIDUAL;ROLE=REQ-PARTICIPANT;PARTSTAT=ACCEPTED;RSVP=TRUE
 ;CN=sdaly@sugarlabs.org;X-NUM-GUESTS=0:mailto:sdaly@sugarlabs.org
ATTENDEE;CUTYPE=INDIVIDUAL;ROLE=REQ-PARTICIPANT;PARTSTAT=NEEDS-ACTION;RSVP=
 TRUE;CN=marketing@lists.sugarlabs.org;X-NUM-GUESTS=0:mailto:marketing@lists
 .sugarlabs.org
CREATED:20100119T122849Z
DESCRIPTION:Proposed agenda:\n\n* XO-1.5 launch (OLPC having taken gadget-h
 ardware route)\n* MIT MarketLab\n\nFor previous meeting logs\, see: http://
 wiki.sugarlabs.org/go/Marketing_Team/Meetings\nWorldclock online time calcu
 lator: http://www.timeanddate.com/worldclock/converter.html\nIRC Help: http
 ://wiki.sugarlabs.org/go/Sugar_Labs/Contacts#IRC.2C_Internet_Relay_Chat\nVi
 ew your event at http://www.google.com/calendar/event?action=VIEW&eid=Y2RvM
 2prcWpyYzJrZnUxcjJnZjBoMmI0dDggbWFya2V0aW5nQGxpc3RzLnN1Z2FybGFicy5vcmc&tok=
 MTkjc2RhbHlAc3VnYXJsYWJzLm9yZzlhMmMyMTczZmEyZWUxNjk1Y2U3ZWU0M2I2M2FiYTdmYWU
 yMmRlYmE&ctz=Europe%2FBrussels&hl=en.
LAST-MODIFIED:20100119T123543Z
LOCATION:IRC: irc.freenode.net (channel: #sugar-meeting)
SEQUENCE:0
STATUS:CONFIRMED
SUMMARY:Sugar Labs Marketing Meeting
TRANSP:OPAQUE
END:VEVENT
END:VCALENDAR
