BEGIN:VCALENDAR
PRODID:-//Google Inc//Google Calendar 70.9054//EN
VERSION:2.0
CALSCALE:GREGORIAN
METHOD:REQUEST
BEGIN:VEVENT
DTSTART:20100112T150000Z
DTEND:20100112T160000Z
DTSTAMP:20100112T121112Z
ORGANIZER;CN=Sean Daly:mailto:sdaly@sugarlabs.org
UID:goqemt1485li9ra2fhu416atrg@google.com
ATTENDEE;CUTYPE=INDIVIDUAL;ROLE=REQ-PARTICIPANT;PARTSTAT=ACCEPTED;RSVP=TRUE
 ;CN=sdaly@sugarlabs.org;X-NUM-GUESTS=0:mailto:sdaly@sugarlabs.org
ATTENDEE;CUTYPE=INDIVIDUAL;ROLE=REQ-PARTICIPANT;PARTSTAT=NEEDS-ACTION;RSVP=
 TRUE;CN=marketing@lists.sugarlabs.org;X-NUM-GUESTS=0:mailto:marketing@lists
 .sugarlabs.org
CREATED:20100112T120904Z
DESCRIPTION:Proposed agenda:\n\n* 2009 debrief\n* 2010 brainstorming!\n\nFo
 r previous meeting logs\, see: http://wiki.sugarlabs.org/go/Marketing_Team/
 Meetings\nWorldclock online time calculator: http://www.timeanddate.com/wor
 ldclock/converter.html\nIRC Help: http://wiki.sugarlabs.org/go/Sugar_Labs/C
 ontacts#IRC.2C_Internet_Relay_Chat\nView your event at http://www.google.co
 m/calendar/event?action=VIEW&eid=Z29xZW10MTQ4NWxpOXJhMmZodTQxNmF0cmcgbWFya2
 V0aW5nQGxpc3RzLnN1Z2FybGFicy5vcmc&tok=MTkjc2RhbHlAc3VnYXJsYWJzLm9yZzNlYjMyO
 DU5Y2IwYTJmYWQxMzU1NTY0MDBhMzdhNDhiYWQ1YzcyNjE&ctz=Europe%2FBrussels&hl=en.
LAST-MODIFIED:20100112T121111Z
LOCATION:IRC: irc.freenode.net (channel: #sugar-meeting)
SEQUENCE:0
STATUS:CONFIRMED
SUMMARY:Sugar Labs Marketing Meeting
TRANSP:OPAQUE
END:VEVENT
END:VCALENDAR
