BEGIN:VCALENDAR
PRODID:-//Google Inc//Google Calendar 70.9054//EN
VERSION:2.0
CALSCALE:GREGORIAN
METHOD:REQUEST
BEGIN:VEVENT
DTSTART:20091201T150000Z
DTEND:20091201T160000Z
DTSTAMP:20091201T122220Z
ORGANIZER;CN=Sean Daly:mailto:sdaly@sugarlabs.org
UID:jggu79ggu54j0qqjh5iore7n0s@google.com
ATTENDEE;CUTYPE=INDIVIDUAL;ROLE=REQ-PARTICIPANT;PARTSTAT=ACCEPTED;RSVP=TRUE
 ;CN=sdaly@sugarlabs.org;X-NUM-GUESTS=0:mailto:sdaly@sugarlabs.org
ATTENDEE;CUTYPE=INDIVIDUAL;ROLE=REQ-PARTICIPANT;PARTSTAT=NEEDS-ACTION;RSVP=
 TRUE;CN=marketing@lists.sugarlabs.org;X-NUM-GUESTS=0:mailto:marketing@lists
 .sugarlabs.org
CREATED:20091201T120736Z
DESCRIPTION:Proposed agenda: Blueberry launch on December 8!\n\n* Today is 
 Sebastian's golden master\n* epubbooks.com blog post?\n* Press release. Let
 's list objectives so I can work up a draft by tomorrow. Submission deadlin
 e is Thursday afternoon EST to make Netbook World Summit in time\n* Get Int
 ernet Archive Books\, Read\, Read Etexts - are we sure which Activity versi
 ons to ship?\n* Wiki page we will point to listing where to find eBooks - w
 ho can make that?\n* news item reporting: idea for tagging message subject\
 n\nFor previous meeting logs\, see: http://wiki.sugarlabs.org/go/Marketing_
 Team/Meetings\nWorldclock online time calculator: http://www.timeanddate.co
 m/worldclock/converter.html\nIRC Help: http://wiki.sugarlabs.org/go/Sugar_L
 abs/Contacts#IRC.2C_Internet_Relay_Chat\n\nView your event at http://www.go
 ogle.com/calendar/event?action=VIEW&eid=amdndTc5Z2d1NTRqMHFxamg1aW9yZTduMHM
 gbWFya2V0aW5nQGxpc3RzLnN1Z2FybGFicy5vcmc&tok=MTkjc2RhbHlAc3VnYXJsYWJzLm9yZz
 AyYmUzOTc0NmQ5NDE4MmMxMWNlMWJiN2ExYTVlYzU4ZTIwOTE1Yzg&ctz=Europe%2FBrussels
 &hl=en.
LAST-MODIFIED:20091201T122220Z
LOCATION:IRC: irc.freenode.net (channel: #sugar-meeting)
SEQUENCE:0
STATUS:CONFIRMED
SUMMARY:Sugar Labs Marketing Meeting
TRANSP:OPAQUE
END:VEVENT
END:VCALENDAR
