BEGIN:VCALENDAR
PRODID:-//Google Inc//Google Calendar 70.9054//EN
VERSION:2.0
CALSCALE:GREGORIAN
METHOD:REQUEST
BEGIN:VEVENT
DTSTART:20091125T150000Z
DTEND:20091125T160000Z
DTSTAMP:20091125T133345Z
ORGANIZER;CN=Sean Daly:mailto:sdaly@sugarlabs.org
UID:oak2muap9hn0jla7gm0lm526ck@google.com
ATTENDEE;CUTYPE=INDIVIDUAL;ROLE=REQ-PARTICIPANT;PARTSTAT=ACCEPTED;RSVP=TRUE
 ;CN=sdaly@sugarlabs.org;X-NUM-GUESTS=0:mailto:sdaly@sugarlabs.org
ATTENDEE;CUTYPE=INDIVIDUAL;ROLE=REQ-PARTICIPANT;PARTSTAT=NEEDS-ACTION;RSVP=
 TRUE;CN=marketing@lists.sugarlabs.org;X-NUM-GUESTS=0:mailto:marketing@lists
 .sugarlabs.org
CREATED:20091125T132742Z
DESCRIPTION:This meeting will be right after Sugar deployment meeting\, so 
 may start a little late if they run over. thanks. Sean\n\nProposed agenda:\
 n\n* Sugar on a Stick v2 Blueberry launch prep! Press release topics (Nexco
 py)\, marketing materials editing\, eBook positioning (golden master deadli
 ne very soon)\n* OLPC joint PR re Peru: waiting for OLPC responses\n\nWorld
 clock online time calculator: http://www.timeanddate.com/worldclock/convert
 er.html\nIRC Help: http://wiki.sugarlabs.org/go/Sugar_Labs/Contacts#IRC.2C_
 Internet_Relay_Chat\nView your event at http://www.google.com/calendar/even
 t?action=VIEW&eid=b2FrMm11YXA5aG4wamxhN2dtMGxtNTI2Y2sgbWFya2V0aW5nQGxpc3RzL
 nN1Z2FybGFicy5vcmc&tok=MTkjc2RhbHlAc3VnYXJsYWJzLm9yZ2JhZTM4MTI0ZTZhMDI1MDQx
 ZjNhOTFkMzJlMTZmMGY3MGI3ZDA3MDE&ctz=Europe%2FBrussels&hl=en.
LAST-MODIFIED:20091125T133344Z
LOCATION:IRC: irc.freenode.net (channel: #sugar-meeting)
SEQUENCE:0
STATUS:CONFIRMED
SUMMARY:Sugar Labs Marketing Meeting
TRANSP:OPAQUE
END:VEVENT
END:VCALENDAR
