BEGIN:VCALENDAR
PRODID:-//Google Inc//Google Calendar 70.9054//EN
VERSION:2.0
CALSCALE:GREGORIAN
METHOD:REQUEST
BEGIN:VEVENT
DTSTART:20091111T160000Z
DTEND:20091111T170000Z
DTSTAMP:20091111T103006Z
ORGANIZER;CN=Sean Daly:mailto:sdaly@sugarlabs.org
UID:3nabr7qgifn8f4q79tl1h726ug@google.com
ATTENDEE;CUTYPE=INDIVIDUAL;ROLE=REQ-PARTICIPANT;PARTSTAT=ACCEPTED;RSVP=TRUE
 ;CN=sdaly@sugarlabs.org;X-NUM-GUESTS=0:mailto:sdaly@sugarlabs.org
ATTENDEE;CUTYPE=INDIVIDUAL;ROLE=REQ-PARTICIPANT;PARTSTAT=NEEDS-ACTION;RSVP=
 TRUE;CN=marketing@lists.sugarlabs.org;X-NUM-GUESTS=0:mailto:marketing@lists
 .sugarlabs.org
CREATED:20091111T102545Z
DESCRIPTION:I am at SugarCamp in Bolzano and this is the slot that fits in 
 the schedule today... if problematic\, please let me know! thanks. Sean\n\n
 Proposed agenda:\n\n* Possible PR cooperation with OLPC\n* Blueberry launch
  situation\n\nWorldclock online time calculator: http://www.timeanddate.com
 /worldclock/converter.html\nIRC Help: http://wiki.sugarlabs.org/go/Sugar_La
 bs/Contacts#IRC.2C_Internet_Relay_Chat\n\nView your event at http://www.goo
 gle.com/calendar/event?action=VIEW&eid=M25hYnI3cWdpZm44ZjRxNzl0bDFoNzI2dWcg
 bWFya2V0aW5nQGxpc3RzLnN1Z2FybGFicy5vcmc&tok=MTkjc2RhbHlAc3VnYXJsYWJzLm9yZzA
 xNzAzNjRmZGU5YWNhN2IzOTY4OWY4ZDY1MmQzMmQ4ZTc1MzE2ZjM&ctz=Europe%2FBrussels&
 hl=en.
LAST-MODIFIED:20091111T103006Z
LOCATION:IRC: irc.freenode.net (channel: #sugar-meeting)
SEQUENCE:0
STATUS:CONFIRMED
SUMMARY:Sugar Labs Marketing Meeting
TRANSP:OPAQUE
END:VEVENT
END:VCALENDAR
