BEGIN:VCALENDAR
PRODID:-//Google Inc//Google Calendar 70.9054//EN
VERSION:2.0
CALSCALE:GREGORIAN
METHOD:REQUEST
BEGIN:VEVENT
DTSTART:20091027T153000Z
DTEND:20091027T160000Z
DTSTAMP:20091027T114709Z
ORGANIZER;CN=Sean Daly:mailto:sdaly@sugarlabs.org
UID:r064lv3eip0juidu7u1m20jepg@google.com
ATTENDEE;CUTYPE=INDIVIDUAL;ROLE=REQ-PARTICIPANT;PARTSTAT=ACCEPTED;RSVP=TRUE
 ;CN=sdaly@sugarlabs.org;X-NUM-GUESTS=0:mailto:sdaly@sugarlabs.org
ATTENDEE;CUTYPE=INDIVIDUAL;ROLE=REQ-PARTICIPANT;PARTSTAT=NEEDS-ACTION;RSVP=
 TRUE;CN=marketing@lists.sugarlabs.org;X-NUM-GUESTS=0:mailto:marketing@lists
 .sugarlabs.org
CREATED:20091027T105014Z
DESCRIPTION:i have time constraints today so I am proposing a briefer meeti
 ng starting a little later than usual. I hope this is not inconvenient.\n\n
 Note: meeting server still down.\n\nProposed agenda:\n\nBlueberry launch br
 ainstorming - eBooks focus\n* Internet Archive Bookserver announcement cont
 ext\n* text-to-speech (mediamods?)\n* Sugar collaboration: discussion group
 s\, annotation\n* non-English books\n* including eBooks in image?\n* other 
 ideas?\n\nWorldclock online time calculator: http://www.timeanddate.com/wor
 ldclock/converter.html\nIRC Help: http://wiki.sugarlabs.org/go/Sugar_Labs/C
 ontacts#IRC.2C_Internet_Relay_Chat\nView your event at http://www.google.co
 m/calendar/event?action=VIEW&eid=cjA2NGx2M2VpcDBqdWlkdTd1MW0yMGplcGcgbWFya2
 V0aW5nQGxpc3RzLnN1Z2FybGFicy5vcmc&tok=MTkjc2RhbHlAc3VnYXJsYWJzLm9yZzQ1Y2EzN
 GE3MjQ1Mzg5Yzg4YmU0ZGQzODk2YjE5NmIwODQwNjAxOTk&ctz=Europe%2FBrussels&hl=en.
LAST-MODIFIED:20091027T114709Z
LOCATION:IRC: irc.freenode.net (channel: #sugar-meeting)
SEQUENCE:0
STATUS:CONFIRMED
SUMMARY:Sugar Labs Marketing Meeting
TRANSP:OPAQUE
END:VEVENT
END:VCALENDAR
