BEGIN:VCALENDAR
PRODID:-//Google Inc//Google Calendar 70.9054//EN
VERSION:2.0
CALSCALE:GREGORIAN
METHOD:REQUEST
BEGIN:VEVENT
DTSTART:20091020T140000Z
DTEND:20091020T150000Z
DTSTAMP:20091020T084158Z
ORGANIZER;CN=Sean Daly:mailto:sdaly@sugarlabs.org
UID:ff1sskkiiluhuting6ub1akhhg@google.com
ATTENDEE;CUTYPE=INDIVIDUAL;ROLE=REQ-PARTICIPANT;PARTSTAT=ACCEPTED;RSVP=TRUE
 ;CN=sdaly@sugarlabs.org;X-NUM-GUESTS=0:mailto:sdaly@sugarlabs.org
ATTENDEE;CUTYPE=INDIVIDUAL;ROLE=REQ-PARTICIPANT;PARTSTAT=NEEDS-ACTION;RSVP=
 TRUE;CN=marketing@lists.sugarlabs.org;X-NUM-GUESTS=0:mailto:marketing@lists
 .sugarlabs.org
CREATED:20091020T083352Z
DESCRIPTION:Proposed agenda:\n\n* TEDx MidAtlantic (Baltimore USA)\n* Blueb
 erry launch brainstorming - ebooks angle? audio angle?\n\nNOTE: last week's
  meeting log offline unfortunately\, I have e-mailed the Systems alias on t
 hat\n\nWorldclock online time calculator: http://www.timeanddate.com/worldc
 lock/converter.html\nIRC Help: http://wiki.sugarlabs.org/go/Sugar_Labs/Cont
 acts#IRC.2C_Internet_Relay_Chat\nView your event at http://www.google.com/c
 alendar/event?action=VIEW&eid=ZmYxc3Nra2lpbHVodXRpbmc2dWIxYWtoaGcgbWFya2V0a
 W5nQGxpc3RzLnN1Z2FybGFicy5vcmc&tok=MTkjc2RhbHlAc3VnYXJsYWJzLm9yZzRkYWZjODZm
 YzQ1MzYzNjA1YTBlY2IzYjYwOTEyZDA5YTI1ZDZmZjc&ctz=Europe%2FBrussels&hl=en.
LAST-MODIFIED:20091020T084029Z
LOCATION:IRC: irc.freenode.net (channel: #sugar-meeting)
SEQUENCE:0
STATUS:CONFIRMED
SUMMARY:Sugar Labs Marketing Meeting
TRANSP:OPAQUE
END:VEVENT
END:VCALENDAR
