BEGIN:VCALENDAR
PRODID:-//Google Inc//Google Calendar 70.9054//EN
VERSION:2.0
CALSCALE:GREGORIAN
METHOD:REQUEST
BEGIN:VEVENT
DTSTART:20091013T140000Z
DTEND:20091013T150000Z
DTSTAMP:20091013T112958Z
ORGANIZER;CN=Sean Daly:mailto:sdaly@sugarlabs.org
UID:ptm16bups2muehadd0h8iorjc0@google.com
ATTENDEE;CUTYPE=INDIVIDUAL;ROLE=REQ-PARTICIPANT;PARTSTAT=ACCEPTED;RSVP=TRUE
 ;CN=sdaly@sugarlabs.org;X-NUM-GUESTS=0:mailto:sdaly@sugarlabs.org
ATTENDEE;CUTYPE=INDIVIDUAL;ROLE=REQ-PARTICIPANT;PARTSTAT=NEEDS-ACTION;RSVP=
 TRUE;CN=marketing@lists.sugarlabs.org;X-NUM-GUESTS=0:mailto:marketing@lists
 .sugarlabs.org
CREATED:20091013T112053Z
DESCRIPTION:Proposed agenda:\n\n* TEDx MidAtlantic (Baltimore USA)\n* Educa
 tec-Educatice Education Show (Paris France) (http://www.educatec-educatice.
 com/exposants.php?pg=4&language=en)\n* Nexcopy/GPA progress press campaign\
 n* Blueberry launch brainstorming - ebooks angle?\n* other topics?\n\nWorld
 clock: http://www.timeanddate.com/worldclock/converter.html\nIRC Help: http
 ://wiki.sugarlabs.org/go/Sugar_Labs/Contacts#IRC.2C_Internet_Relay_Chat\nVi
 ew your event at http://www.google.com/calendar/event?action=VIEW&eid=cHRtM
 TZidXBzMm11ZWhhZGQwaDhpb3JqYzAgbWFya2V0aW5nQGxpc3RzLnN1Z2FybGFicy5vcmc&tok=
 MTkjc2RhbHlAc3VnYXJsYWJzLm9yZ2IwNTViYzhjNDM4ZWI0Y2ZmY2I4YjhmZTg3YWU4YTQ4Nzg
 zNmY3Yjg&ctz=Europe%2FBrussels&hl=en.
LAST-MODIFIED:20091013T112957Z
LOCATION:IRC: irc.freenode.net (channel: #sugar-meeting)
SEQUENCE:0
STATUS:CONFIRMED
SUMMARY:Sugar Labs Marketing Meeting
TRANSP:OPAQUE
END:VEVENT
END:VCALENDAR
