BEGIN:VCALENDAR
PRODID:-//Google Inc//Google Calendar 70.9054//EN
VERSION:2.0
CALSCALE:GREGORIAN
METHOD:REQUEST
BEGIN:VEVENT
DTSTART:20091006T140000Z
DTEND:20091006T150000Z
DTSTAMP:20091006T100830Z
ORGANIZER;CN=Sean Daly:mailto:sdaly@sugarlabs.org
UID:va0vmjcr63f67q7s2c2s2ke4e8@google.com
ATTENDEE;CUTYPE=INDIVIDUAL;ROLE=REQ-PARTICIPANT;PARTSTAT=ACCEPTED;RSVP=TRUE
 ;CN=sdaly@sugarlabs.org;X-NUM-GUESTS=0:mailto:sdaly@sugarlabs.org
ATTENDEE;CUTYPE=INDIVIDUAL;ROLE=REQ-PARTICIPANT;PARTSTAT=NEEDS-ACTION;RSVP=
 TRUE;CN=marketing@lists.sugarlabs.org;X-NUM-GUESTS=0:mailto:marketing@lists
 .sugarlabs.org
CREATED:20091006T095401Z
DESCRIPTION:Proposed agenda:\n\n* Blueberry launch brainstorming\n* Educate
 c-Educatice Education Show (France) (http://www.educatec-educatice.com/expo
 sants.php?pg=4&language=en)\n* other topics?\n\nWorldclock: http://www.time
 anddate.com/worldclock/converter.html\nIRC Help: http://wiki.sugarlabs.org/
 go/Sugar_Labs/Contacts#IRC.2C_Internet_Relay_Chat\nView your event at http:
 //www.google.com/calendar/event?action=VIEW&eid=dmEwdm1qY3I2M2Y2N3E3czJjMnM
 ya2U0ZTggbWFya2V0aW5nQGxpc3RzLnN1Z2FybGFicy5vcmc&tok=MTkjc2RhbHlAc3VnYXJsYW
 JzLm9yZzRhNzMwYTFhMWM4OWMyNjUzYTM0YjhjMGI3NzljOGYxYWJmNWJmMDM&ctz=Europe%2F
 Brussels&hl=en.
LAST-MODIFIED:20091006T100828Z
LOCATION:IRC: irc.freenode.net (channel: #sugar-meeting)
SEQUENCE:0
STATUS:CONFIRMED
SUMMARY:Sugar Labs Marketing Meeting
TRANSP:OPAQUE
END:VEVENT
END:VCALENDAR
