BEGIN:VCALENDAR
PRODID:-//Google Inc//Google Calendar 70.9054//EN
VERSION:2.0
CALSCALE:GREGORIAN
METHOD:REQUEST
BEGIN:VEVENT
DTSTART:20090929T140000Z
DTEND:20090929T150000Z
DTSTAMP:20090929T103033Z
ORGANIZER;CN=Sean Daly:mailto:sdaly@sugarlabs.org
UID:cgcfnc76kcjgsj67h90hlo4qpg@google.com
ATTENDEE;CUTYPE=INDIVIDUAL;ROLE=REQ-PARTICIPANT;PARTSTAT=ACCEPTED;RSVP=TRUE
 ;CN=sdaly@sugarlabs.org;X-NUM-GUESTS=0:mailto:sdaly@sugarlabs.org
ATTENDEE;CUTYPE=INDIVIDUAL;ROLE=REQ-PARTICIPANT;PARTSTAT=NEEDS-ACTION;RSVP=
 TRUE;CN=marketing@lists.sugarlabs.org;X-NUM-GUESTS=0:mailto:marketing@lists
 .sugarlabs.org
CREATED:20090929T102206Z
DESCRIPTION:Proposed agenda:\n\n* Marketing team recruitment\n* debrief of 
 The Inquirer article (http://www.theinquirer.net/inquirer/news/1555781/one-
 laptop-per-child-marches)\n* Sugar Labs website common navbar\n* Blueberry 
 launch brainstorming\n* other topics?\n\nWorldclock: http://www.timeanddate
 .com/worldclock/converter.html\nIRC Help: http://wiki.sugarlabs.org/go/Suga
 r_Labs/Contacts#IRC.2C_Internet_Relay_Chat\n\nView your event at http://www
 .google.com/calendar/event?action=VIEW&eid=Y2djZm5jNzZrY2pnc2o2N2g5MGhsbzRx
 cGcgbWFya2V0aW5nQGxpc3RzLnN1Z2FybGFicy5vcmc&tok=MTkjc2RhbHlAc3VnYXJsYWJzLm9
 yZzJjMzQ0NWFhY2Y1Mjk1YTg5ZWUyNDk1NjkzNjIyNTAzZjIxOWJmNjI&ctz=Europe%2FBruss
 els&hl=en.
LAST-MODIFIED:20090929T103032Z
LOCATION:IRC: irc.freenode.net (channel: #sugar-meeting)
SEQUENCE:0
STATUS:CONFIRMED
SUMMARY:Sugar Labs Marketing Meeting
TRANSP:OPAQUE
END:VEVENT
END:VCALENDAR
