BEGIN:VCALENDAR
PRODID:-//Google Inc//Google Calendar 70.9054//EN
VERSION:2.0
CALSCALE:GREGORIAN
METHOD:REQUEST
BEGIN:VEVENT
DTSTART:20090922T140000Z
DTEND:20090922T150000Z
DTSTAMP:20090922T095620Z
ORGANIZER;CN=Sean Daly:mailto:sdaly@sugarlabs.org
UID:vj9cnhf3bienco1mqb5g2hhun4@google.com
ATTENDEE;CUTYPE=INDIVIDUAL;ROLE=REQ-PARTICIPANT;PARTSTAT=ACCEPTED;RSVP=TRUE
 ;CN=sdaly@sugarlabs.org;X-NUM-GUESTS=0:mailto:sdaly@sugarlabs.org
ATTENDEE;CUTYPE=INDIVIDUAL;ROLE=REQ-PARTICIPANT;PARTSTAT=NEEDS-ACTION;RSVP=
 TRUE;CN=marketing@lists.sugarlabs.org;X-NUM-GUESTS=0:mailto:marketing@lists
 .sugarlabs.org
CREATED:20090922T093314Z
DESCRIPTION:Proposed agenda:\n\n* debrief of FSF joint press release\n* Nex
 copy press release: how\, when\; education targeting\, donations of sticks\
 ; tie-in to GPA pilot (Caroline support target Boston area for computers)\,
  place BU article\n* Merchandising (swag) - time to get this going\n* other
  topics?\n\n\nWorldclock: http://www.timeanddate.com/worldclock/converter.h
 tml\nIRC Help: http://wiki.sugarlabs.org/go/Sugar_Labs/Contacts#IRC.2C_Inte
 rnet_Relay_Chat\n\nView your event at http://www.google.com/calendar/event?
 action=VIEW&eid=dmo5Y25oZjNiaWVuY28xbXFiNWcyaGh1bjQgbWFya2V0aW5nQGxpc3RzLnN
 1Z2FybGFicy5vcmc&tok=MTkjc2RhbHlAc3VnYXJsYWJzLm9yZ2FmODNjYmViOWZmMjNjMDk0Ym
 Q4NGY2YTRjMDU3OWQyMDQwOTM5ZmM&ctz=Europe%2FBrussels&hl=en.
LAST-MODIFIED:20090922T095620Z
LOCATION:IRC: irc.freenode.net (channel: #sugar-meeting)
SEQUENCE:0
STATUS:CONFIRMED
SUMMARY:Sugar Labs Marketing Meeting
TRANSP:OPAQUE
END:VEVENT
END:VCALENDAR
