BEGIN:VCALENDAR
PRODID:-//Google Inc//Google Calendar 70.9054//EN
VERSION:2.0
CALSCALE:GREGORIAN
METHOD:REQUEST
BEGIN:VEVENT
DTSTART:20090915T140000Z
DTEND:20090915T150000Z
DTSTAMP:20090915T072341Z
ORGANIZER;CN=Sean Daly:mailto:sdaly@sugarlabs.org
UID:hjj3grhtph059gsph8cun07lac@google.com
ATTENDEE;CUTYPE=INDIVIDUAL;ROLE=REQ-PARTICIPANT;PARTSTAT=NEEDS-ACTION;RSVP=
 TRUE;CN=marketing@lists.sugarlabs.org;X-NUM-GUESTS=0:mailto:marketing@lists
 .sugarlabs.org
ATTENDEE;CUTYPE=INDIVIDUAL;ROLE=REQ-PARTICIPANT;PARTSTAT=ACCEPTED;RSVP=TRUE
 ;CN=sdaly@sugarlabs.org;X-NUM-GUESTS=0:mailto:sdaly@sugarlabs.org
CREATED:20090915T072212Z
DESCRIPTION:Proposed agenda:\n* Joint press release & event with the FSF fo
 r Software Freedom Day (Sept. 19th)\nView your event at http://www.google.c
 om/calendar/event?action=VIEW&eid=aGpqM2dyaHRwaDA1OWdzcGg4Y3VuMDdsYWMgbWFya
 2V0aW5nQGxpc3RzLnN1Z2FybGFicy5vcmc&tok=MTkjc2RhbHlAc3VnYXJsYWJzLm9yZzJiMjYx
 M2QwMzU3ZDc5ZGQzMWE5YTRhZDcxMTM1NGVhY2VjMGRlYmY&ctz=Europe%2FBrussels&hl=en
 .
LAST-MODIFIED:20090915T072341Z
LOCATION:IRC: irc.freenode.net (channel: #sugar-meeting)
SEQUENCE:0
STATUS:CONFIRMED
SUMMARY:Sugar Labs Marketing Meeting
TRANSP:OPAQUE
END:VEVENT
END:VCALENDAR
