BEGIN:VCALENDAR
PRODID:-//Google Inc//Google Calendar 70.9054//EN
VERSION:2.0
CALSCALE:GREGORIAN
METHOD:REQUEST
BEGIN:VEVENT
DTSTART:20090908T140000Z
DTEND:20090908T150000Z
DTSTAMP:20090904T182125Z
ORGANIZER;CN=Sean Daly:mailto:sdaly@sugarlabs.org
UID:72pts8pbrmloosevcrgmve58b4@google.com
ATTENDEE;CUTYPE=INDIVIDUAL;ROLE=REQ-PARTICIPANT;PARTSTAT=NEEDS-ACTION;RSVP=
 TRUE;CN=marketing@lists.sugarlabs.org;X-NUM-GUESTS=0:mailto:marketing@lists
 .sugarlabs.org
ATTENDEE;CUTYPE=INDIVIDUAL;ROLE=REQ-PARTICIPANT;PARTSTAT=ACCEPTED;RSVP=TRUE
 ;CN=sdaly@sugarlabs.org;X-NUM-GUESTS=0:mailto:sdaly@sugarlabs.org
CREATED:20090904T181322Z
DESCRIPTION:Proposed agenda:\n\n* Catching up after my absence\n* Nexcopy p
 ress release (asap)\n* Joint press release & event with the FSF for Softwar
 e Freedom Day (Sept. 19th)\n* Stickers & viral video campaign idea (designe
 rs please note)\n* Your suggestions here please!\n\nWorldclock: http://www.
 timeanddate.com/worldclock/converter.html\nIRC Help: http://wiki.sugarlabs.
 org/go/Sugar_Labs/Contacts#IRC.2C_Internet_Relay_Chat\n\nView your event at
  http://www.google.com/calendar/event?action=VIEW&eid=NzJwdHM4cGJybWxvb3Nld
 mNyZ212ZTU4YjQgbWFya2V0aW5nQGxpc3RzLnN1Z2FybGFicy5vcmc&tok=MTkjc2RhbHlAc3Vn
 YXJsYWJzLm9yZ2RlMzUxNjI4NmE1MTU1ZDBlOWIxNDk5Mjc4NmYyODc2NWQyZWYxYWY&ctz=Eur
 ope%2FBrussels&hl=en.
LAST-MODIFIED:20090904T182124Z
LOCATION:IRC: irc.freenode.net (channel: #sugar-meeting)
SEQUENCE:0
STATUS:CONFIRMED
SUMMARY:Sugar Labs Marketing Meeting
TRANSP:OPAQUE
END:VEVENT
END:VCALENDAR
