BEGIN:VCALENDAR
PRODID:-//Google Inc//Google Calendar 70.9054//EN
VERSION:2.0
CALSCALE:GREGORIAN
METHOD:REQUEST
BEGIN:VEVENT
DTSTART:20090630T150000Z
DTEND:20090630T160000Z
DTSTAMP:20090630T131510Z
ORGANIZER;CN=Sean Daly:mailto:sdaly@sugarlabs.org
UID:t63qv7jglvg4lc9mpn5esks6e4@google.com
ATTENDEE;CUTYPE=INDIVIDUAL;ROLE=REQ-PARTICIPANT;PARTSTAT=NEEDS-ACTION;RSVP=
 TRUE;CN=marketing@lists.sugarlabs.org;X-NUM-GUESTS=0:mailto:marketing@lists
 .sugarlabs.org
ATTENDEE;CUTYPE=INDIVIDUAL;ROLE=REQ-PARTICIPANT;PARTSTAT=NEEDS-ACTION;RSVP=
 TRUE;CN=iaep@lists.sugarlabs.org;X-NUM-GUESTS=0:mailto:iaep@lists.sugarlabs
 .org
ATTENDEE;CUTYPE=INDIVIDUAL;ROLE=REQ-PARTICIPANT;PARTSTAT=NEEDS-ACTION;RSVP=
 TRUE;CN=sugar-devel@lists.sugarlabs.org;X-NUM-GUESTS=0:mailto:sugar-devel@l
 ists.sugarlabs.org
ATTENDEE;CUTYPE=INDIVIDUAL;ROLE=REQ-PARTICIPANT;PARTSTAT=ACCEPTED;RSVP=TRUE
 ;CN=Sean Daly;X-NUM-GUESTS=0:mailto:sdaly@sugarlabs.org
CLASS:PRIVATE
CREATED:20090630T130549Z
DESCRIPTION:* Nexcopy press release postponed (to GUADEC?)\n* Debrief Straw
 berry launch - anything to comment on/add to\n my mail of this morning?\n* 
 Brainstorming about content offer\n* other topics?\n\n\nWorldclock: http://
 www.timeanddate.com/worldclock/converter.html\nIRC Help: http://wiki.sugarl
 abs.org/go/Sugar_Labs/Contacts#IRC.2C_Internet_Relay_Chat\n\nView your even
 t at http://www.google.com/calendar/event?action=VIEW&eid=dDYzcXY3amdsdmc0b
 GM5bXBuNWVza3M2ZTQgbWFya2V0aW5nQGxpc3RzLnN1Z2FybGFicy5vcmc&tok=MTkjc2RhbHlA
 c3VnYXJsYWJzLm9yZ2Y3NTU4MDE0ZjRiMzExZTMzOGZjZjg3YTg4OGU4YzU3NGIzN2RhNDI&ctz
 =Europe%2FBrussels&hl=en.
LAST-MODIFIED:20090630T131509Z
LOCATION:IRC: irc.freenode.net (channel: #sugar-meeting)
SEQUENCE:0
STATUS:CONFIRMED
SUMMARY:Sugar Labs Marketing Meeting
TRANSP:OPAQUE
END:VEVENT
END:VCALENDAR
