BEGIN:VCALENDAR
PRODID:-//Google Inc//Google Calendar 70.9054//EN
VERSION:2.0
CALSCALE:GREGORIAN
METHOD:REQUEST
BEGIN:VEVENT
DTSTART:20090623T150000Z
DTEND:20090623T163000Z
DTSTAMP:20090623T111832Z
ORGANIZER;CN=Sean Daly:mailto:sdaly@sugarlabs.org
UID:6njihbgvarau5vee2p5orcj8pc@google.com
ATTENDEE;CUTYPE=INDIVIDUAL;ROLE=REQ-PARTICIPANT;PARTSTAT=NEEDS-ACTION;RSVP=
 TRUE;CN=marketing@lists.sugarlabs.org;X-NUM-GUESTS=0:mailto:marketing@lists
 .sugarlabs.org
ATTENDEE;CUTYPE=INDIVIDUAL;ROLE=REQ-PARTICIPANT;PARTSTAT=NEEDS-ACTION;RSVP=
 TRUE;CN=iaep@lists.sugarlabs.org;X-NUM-GUESTS=0:mailto:iaep@lists.sugarlabs
 .org
ATTENDEE;CUTYPE=INDIVIDUAL;ROLE=REQ-PARTICIPANT;PARTSTAT=NEEDS-ACTION;RSVP=
 TRUE;CN=sugar-devel@lists.sugarlabs.org;X-NUM-GUESTS=0:mailto:sugar-devel@l
 ists.sugarlabs.org
ATTENDEE;CUTYPE=INDIVIDUAL;ROLE=REQ-PARTICIPANT;PARTSTAT=ACCEPTED;RSVP=TRUE
 ;CN=Sean Daly;X-NUM-GUESTS=0:mailto:sdaly@sugarlabs.org
CLASS:PRIVATE
CREATED:20090623T111213Z
DESCRIPTION:Proposed agenda:\n\n* LinuxTag press release tomorrow! Translat
 ions status\n* PDF brochure\n* Try Sugar flyer\n* my Sugar photos Flickr ph
 otostream\n* Nexcopy partnership press release for NECC\n\nWorldclock: http
 ://www.timeanddate.com/worldclock/converter.html\nIRC Help: http://wiki.sug
 arlabs.org/go/Sugar_Labs/Contacts#IRC.2C_Internet_Relay_Chat\n\nView your e
 vent at http://www.google.com/calendar/event?action=VIEW&eid=Nm5qaWhiZ3Zhcm
 F1NXZlZTJwNW9yY2o4cGMgbWFya2V0aW5nQGxpc3RzLnN1Z2FybGFicy5vcmc&tok=MTkjc2Rhb
 HlAc3VnYXJsYWJzLm9yZzQ1ZTIyMjFmMzY1YzJkMDkwNzQwOGRlZjAyZjE4OGVjZThmYmM0NTk&
 ctz=Europe%2FBrussels&hl=en.
LAST-MODIFIED:20090623T111829Z
LOCATION:IRC: irc.freenode.net (channel: #sugar-meeting)
SEQUENCE:0
STATUS:CONFIRMED
SUMMARY:Sugar Labs Marketing Meeting
TRANSP:OPAQUE
END:VEVENT
END:VCALENDAR
