BEGIN:VCALENDAR
PRODID:-//Google Inc//Google Calendar 70.9054//EN
VERSION:2.0
CALSCALE:GREGORIAN
METHOD:REQUEST
BEGIN:VEVENT
DTSTART:20090609T150000Z
DTEND:20090609T160000Z
DTSTAMP:20090609T093558Z
ORGANIZER;CN=Sean Daly:mailto:sdaly@sugarlabs.org
UID:qcb7aq0c3g3pcjt92hjflao9mc@google.com
ATTENDEE;CUTYPE=INDIVIDUAL;ROLE=REQ-PARTICIPANT;PARTSTAT=NEEDS-ACTION;RSVP=
 TRUE;CN=marketing@lists.sugarlabs.org;X-NUM-GUESTS=0:mailto:marketing@lists
 .sugarlabs.org
ATTENDEE;CUTYPE=INDIVIDUAL;ROLE=REQ-PARTICIPANT;PARTSTAT=NEEDS-ACTION;RSVP=
 TRUE;CN=Sebastian Dziallas;X-NUM-GUESTS=0:mailto:sdz@fedoraproject.org
ATTENDEE;CUTYPE=INDIVIDUAL;ROLE=REQ-PARTICIPANT;PARTSTAT=NEEDS-ACTION;RSVP=
 TRUE;CN=iaep;X-NUM-GUESTS=0:mailto:iaep@lists.sugarlabs.org
ATTENDEE;CUTYPE=INDIVIDUAL;ROLE=REQ-PARTICIPANT;PARTSTAT=NEEDS-ACTION;RSVP=
 TRUE;CN=Sugar Devel;X-NUM-GUESTS=0:mailto:sugar-devel@lists.sugarlabs.org
ATTENDEE;CUTYPE=INDIVIDUAL;ROLE=REQ-PARTICIPANT;PARTSTAT=ACCEPTED;RSVP=TRUE
 ;CN=Sean Daly;X-NUM-GUESTS=0:mailto:sdaly@sugarlabs.org
CLASS:PRIVATE
CREATED:20090609T092307Z
DESCRIPTION:Proposed agenda:\n\n* SoaS release name for LinuxTag and next f
 all release and after\n* Gould/Gardner press release\n* Nexcopy partnership
  in time for LinuxTag\n* Booth swag orders\n* PDF brochure and Try Sugar fl
 yer\n* boot animation debrief\n* other topics?\n\nNote: if this usual slot 
 doesn't work for everyone\, we can possibly do a 2nd meeting later today\, 
 we certainly have more than enough to fill the hour!\n\nWorldclock: http://
 www.timeanddate.com/worldclock/converter.html\nIRC Help: http://wiki.sugarl
 abs.org/go/Sugar_Labs/Contacts#IRC.2C_Internet_Relay_Chat\n\nView your even
 t at http://www.google.com/calendar/event?action=VIEW&eid=cWNiN2FxMGMzZzNwY
 2p0OTJoamZsYW85bWMgbWFya2V0aW5nQGxpc3RzLnN1Z2FybGFicy5vcmc&tok=MTkjc2RhbHlA
 c3VnYXJsYWJzLm9yZzJhMzA5ODc4ZTg2NDIyMTAxOTY3Zjg0MDNmZjE0Y2IyZDlkNTM1MTk&ctz
 =Europe%2FBrussels&hl=en.
LAST-MODIFIED:20090609T093557Z
LOCATION:IRC: irc.freenode.net (channel: #sugar-meeting)
SEQUENCE:0
STATUS:CONFIRMED
SUMMARY:Sugar Labs Marketing Meeting
TRANSP:OPAQUE
END:VEVENT
END:VCALENDAR
