BEGIN:VCALENDAR
PRODID:-//Google Inc//Google Calendar 70.9054//EN
VERSION:2.0
CALSCALE:GREGORIAN
METHOD:REQUEST
BEGIN:VEVENT
DTSTART:20090602T150000Z
DTEND:20090602T160000Z
DTSTAMP:20090602T124737Z
ORGANIZER;CN=Sean Daly:mailto:sdaly@sugarlabs.org
UID:805a1mvtbfqo80itf17brq9f0o@google.com
ATTENDEE;CUTYPE=INDIVIDUAL;ROLE=REQ-PARTICIPANT;PARTSTAT=NEEDS-ACTION;RSVP=
 TRUE;CN=marketing@lists.sugarlabs.org;X-NUM-GUESTS=0:mailto:marketing@lists
 .sugarlabs.org
ATTENDEE;CUTYPE=INDIVIDUAL;ROLE=REQ-PARTICIPANT;PARTSTAT=ACCEPTED;RSVP=TRUE
 ;CN=Sean Daly;X-NUM-GUESTS=0:mailto:sdaly@sugarlabs.org
CLASS:PRIVATE
CREATED:20090602T123613Z
DESCRIPTION:proposed agenda:\n\n* SoaS boot animation\n* Google adwords app
 lication\n* We are short-handed for design push: PDF brochure\, How to Try 
 Sugar\, booth banner\, Spreadshirt merchandise / swag\, CD label ... sugges
 tions?\n* other topics?\n\nWorldclock: http://www.timeanddate.com/worldcloc
 k/converter.html\nIRC Help: http://wiki.sugarlabs.org/go/Sugar_Labs/Contact
 s#IRC.2C_Internet_Relay_Chat\nView your event at http://www.google.com/cale
 ndar/event?action=VIEW&eid=ODA1YTFtdnRiZnFvODBpdGYxN2JycTlmMG8gbWFya2V0aW5n
 QGxpc3RzLnN1Z2FybGFicy5vcmc&tok=MTkjc2RhbHlAc3VnYXJsYWJzLm9yZzk0MzYzMGExODE
 0MTI4OGQyMzRhZGMxZWU2ZGFhNWQzNjc3OGYzZjI&ctz=Europe%2FBrussels&hl=en.
LAST-MODIFIED:20090602T124736Z
LOCATION:IRC: irc.freenode.net (channel: #sugar-meeting)
SEQUENCE:0
STATUS:CONFIRMED
SUMMARY:Sugar Labs Marketing Meeting
TRANSP:OPAQUE
END:VEVENT
END:VCALENDAR
