BEGIN:VCALENDAR
PRODID:-//Google Inc//Google Calendar 70.9054//EN
VERSION:2.0
CALSCALE:GREGORIAN
METHOD:REQUEST
BEGIN:VEVENT
DTSTART:20090526T150000Z
DTEND:20090526T160000Z
DTSTAMP:20090526T075149Z
ORGANIZER;CN=Sean Daly:mailto:sdaly@sugarlabs.org
UID:av7t3phujt0tqv43lcngf6vv5s@google.com
ATTENDEE;CUTYPE=INDIVIDUAL;ROLE=REQ-PARTICIPANT;PARTSTAT=NEEDS-ACTION;RSVP=
 TRUE;CN=marketing@lists.sugarlabs.org;X-NUM-GUESTS=0:mailto:marketing@lists
 .sugarlabs.org
ATTENDEE;CUTYPE=INDIVIDUAL;ROLE=REQ-PARTICIPANT;PARTSTAT=ACCEPTED;RSVP=TRUE
 ;CN=Sean Daly;X-NUM-GUESTS=0:mailto:sdaly@sugarlabs.org
CLASS:PRIVATE
CREATED:20090526T073323Z
DESCRIPTION:Proposed agenda:\n\n1) preparation for LinuxTag and NECC DC. Th
 is encompasses:\na) press release for SoaS beta-2\,\nb) booth stuff (includ
 es PDF brochure\, banner\, balloons\, merchandise\, etc.)\,\nc) SoaS and bo
 ot helper CDs.\n\n2) Dailymotion channel: should we do a press release now?
  Is there enough content? We need to mention SL's first birthday.\n\n3) Fli
 ckr account?\n\n4) other topics?\nView your event at http://www.google.com/
 calendar/event?action=VIEW&eid=YXY3dDNwaHVqdDB0cXY0M2xjbmdmNnZ2NXMgbWFya2V0
 aW5nQGxpc3RzLnN1Z2FybGFicy5vcmc&tok=MTkjc2RhbHlAc3VnYXJsYWJzLm9yZzkyM2JlMjl
 jZGRkNDczZjI3YWExMDQ2YzZlMWFiMWI2NzcwYjhiMmQ&ctz=Europe%2FBrussels&hl=en.
LAST-MODIFIED:20090526T075149Z
LOCATION:IRC: irc.freenode.net (channel: #sugar-meeting)
SEQUENCE:0
STATUS:CONFIRMED
SUMMARY:Sugar Labs Marketing Meeting
TRANSP:OPAQUE
END:VEVENT
END:VCALENDAR
