BEGIN:VCALENDAR
PRODID:-//Google Inc//Google Calendar 70.9054//EN
VERSION:2.0
CALSCALE:GREGORIAN
METHOD:REQUEST
BEGIN:VEVENT
DTSTART:20090519T150000Z
DTEND:20090519T160000Z
DTSTAMP:20090519T125917Z
ORGANIZER;CN=Sean Daly:mailto:sdaly@sugarlabs.org
UID:5krb4ebvtg7rcp2a89fh8tpev4@google.com
ATTENDEE;CUTYPE=INDIVIDUAL;ROLE=REQ-PARTICIPANT;PARTSTAT=NEEDS-ACTION;RSVP=
 TRUE;CN=Sugar Labs Marketing;X-NUM-GUESTS=0:mailto:marketing@lists.sugarlab
 s.org
ATTENDEE;CUTYPE=INDIVIDUAL;ROLE=REQ-PARTICIPANT;PARTSTAT=ACCEPTED;RSVP=TRUE
 ;CN=Sean Daly;X-NUM-GUESTS=0:mailto:sdaly@sugarlabs.org
CLASS:PRIVATE
CREATED:20090519T125346Z
DESCRIPTION:Suggested topics: debrief of SugarCamp Paris for those who coul
 dn't make it\, composition of new press beauty shots\, others?\nView your e
 vent at http://www.google.com/calendar/event?action=VIEW&eid=NWtyYjRlYnZ0Zz
 dyY3AyYTg5Zmg4dHBldjQgbWFya2V0aW5nQGxpc3RzLnN1Z2FybGFicy5vcmc&tok=MTkjc2Rhb
 HlAc3VnYXJsYWJzLm9yZ2I1YTFiNWUxNjhlMTY1MTJkYTQ4N2FjYWI3ZWExNTQ2ZWM1ZGFkOWM&
 ctz=Europe%2FBrussels&hl=en.
LAST-MODIFIED:20090519T125917Z
LOCATION:IRC: irc.freenode.net (channel: #sugar-meeting)
SEQUENCE:0
STATUS:CONFIRMED
SUMMARY:Sugar Labs Marketing Meeting
TRANSP:OPAQUE
END:VEVENT
END:VCALENDAR
