BEGIN:VCALENDAR
PRODID:-//Google Inc//Google Calendar 70.9054//EN
VERSION:2.0
CALSCALE:GREGORIAN
METHOD:REQUEST
BEGIN:VEVENT
DTSTART:20090512T150000Z
DTEND:20090512T160000Z
DTSTAMP:20090512T122358Z
ORGANIZER;CN=Sean Daly:mailto:sdaly@sugarlabs.org
UID:iqkcpoa7dis77gothhoc9dpuk8@google.com
ATTENDEE;CUTYPE=INDIVIDUAL;ROLE=REQ-PARTICIPANT;PARTSTAT=NEEDS-ACTION;RSVP=
 TRUE;CN=marketing@lists.sugarlabs.org;X-NUM-GUESTS=0:mailto:marketing@lists
 .sugarlabs.org
ATTENDEE;CUTYPE=INDIVIDUAL;ROLE=REQ-PARTICIPANT;PARTSTAT=ACCEPTED;RSVP=TRUE
 ;CN=Sean Daly;X-NUM-GUESTS=0:mailto:sdaly@sugarlabs.org
CLASS:PRIVATE
CREATED:20090512T121859Z
DESCRIPTION:Suggested topics:\n* SugarCamp Paris preparations\n* Sugar vide
 os\n* website navigation bar status\n\nthanks\n\nView your event at http://
 www.google.com/calendar/event?action=VIEW&eid=aXFrY3BvYTdkaXM3N2dvdGhob2M5Z
 HB1azggbWFya2V0aW5nQGxpc3RzLnN1Z2FybGFicy5vcmc&tok=MTkjc2RhbHlAc3VnYXJsYWJz
 Lm9yZzg1ZTJkMDc2Yzc3Nzg2MDRhOWYyZTZlMGQ2YjAwNzA5ODJjY2RjZDU&ctz=Europe%2FBr
 ussels&hl=en.
LAST-MODIFIED:20090512T122358Z
LOCATION:IRC: irc.freenode.net (channel: #sugar-meeting)
SEQUENCE:0
STATUS:CONFIRMED
SUMMARY:Sugar Labs Marketing Meeting
TRANSP:OPAQUE
END:VEVENT
END:VCALENDAR
