BEGIN:VCALENDAR
PRODID:-//Google Inc//Google Calendar 70.9054//EN
VERSION:2.0
CALSCALE:GREGORIAN
METHOD:REQUEST
BEGIN:VEVENT
DTSTART:20090505T150000Z
DTEND:20090505T160000Z
DTSTAMP:20090505T131855Z
ORGANIZER;CN=Sean Daly:mailto:sdaly@sugarlabs.org
UID:iofeuake5a1s7fk5bvs89tmvjs@google.com
ATTENDEE;CUTYPE=INDIVIDUAL;ROLE=REQ-PARTICIPANT;PARTSTAT=NEEDS-ACTION;RSVP=
 TRUE;CN=marketing@lists.sugarlabs.org;X-NUM-GUESTS=0:mailto:marketing@lists
 .sugarlabs.org
ATTENDEE;CUTYPE=INDIVIDUAL;ROLE=REQ-PARTICIPANT;PARTSTAT=ACCEPTED;RSVP=TRUE
 ;CN=Sean Daly;X-NUM-GUESTS=0:mailto:sdaly@sugarlabs.org
CLASS:PRIVATE
CREATED:20090505T131854Z
DESCRIPTION:View your event at http://www.google.com/calendar/event?action=
 VIEW&eid=aW9mZXVha2U1YTFzN2ZrNWJ2czg5dG12anMgbWFya2V0aW5nQGxpc3RzLnN1Z2FybG
 Ficy5vcmc&tok=MTkjc2RhbHlAc3VnYXJsYWJzLm9yZ2ZhMjkyYTJlMWIyNmU2MjYyZDNhOTc3M
 TU3MDgzMDBjYjRlOWI3NWM&ctz=Europe%2FBrussels&hl=en.
LAST-MODIFIED:20090505T131855Z
LOCATION:
SEQUENCE:0
STATUS:CONFIRMED
SUMMARY:Marketing meeting
TRANSP:OPAQUE
END:VEVENT
END:VCALENDAR
