BEGIN:VCALENDAR
PRODID:-//Google Inc//Google Calendar 70.9054//EN
VERSION:2.0
CALSCALE:GREGORIAN
METHOD:REQUEST
BEGIN:VEVENT
DTSTART:20090429T150000Z
DTEND:20090429T160000Z
DTSTAMP:20090429T124905Z
ORGANIZER;CN=Sean Daly:mailto:sdaly@sugarlabs.org
UID:0vgs5dcb9s8omkphpbkefjf85k@google.com
ATTENDEE;CUTYPE=INDIVIDUAL;ROLE=REQ-PARTICIPANT;PARTSTAT=NEEDS-ACTION;RSVP=
 TRUE;CN=marketing@lists.sugarlabs.org;X-NUM-GUESTS=0:mailto:marketing@lists
 .sugarlabs.org
ATTENDEE;CUTYPE=INDIVIDUAL;ROLE=REQ-PARTICIPANT;PARTSTAT=ACCEPTED;RSVP=TRUE
 ;CN=Sean Daly;X-NUM-GUESTS=0:mailto:sdaly@sugarlabs.org
CLASS:PRIVATE
CREATED:20090429T123715Z
DESCRIPTION:Short agenda:\n* debrief SoaS Beta-1 press release\n* the feedb
 ack situation\n* re Caroline suggestion: enumerating common misconceptions 
 about Sugar\n* A new Sugar video - ideas for what we can do while at SugarC
 amp Paris\n* other topics?\n\nView your event at http://www.google.com/cale
 ndar/event?action=VIEW&eid=MHZnczVkY2I5czhvbWtwaHBia2VmamY4NWsgbWFya2V0aW5n
 QGxpc3RzLnN1Z2FybGFicy5vcmc&tok=MTkjc2RhbHlAc3VnYXJsYWJzLm9yZ2FkOWM3ZTU4YWI
 4ZTA4YzBiMTY0OTM2ZGU2MjUwM2Y4MTA0OGZhYzc&ctz=Europe%2FBrussels&hl=en.
LAST-MODIFIED:20090429T124905Z
LOCATION:irc://irc.freenode.net#sugar-meeting
SEQUENCE:0
STATUS:CONFIRMED
SUMMARY:Marketing meeting
TRANSP:OPAQUE
END:VEVENT
END:VCALENDAR
