BEGIN:VCALENDAR
PRODID:-//Google Inc//Google Calendar 70.9054//EN
VERSION:2.0
CALSCALE:GREGORIAN
METHOD:REQUEST
BEGIN:VEVENT
DTSTART:20090414T150000Z
DTEND:20090414T160000Z
DTSTAMP:20090414T134955Z
ORGANIZER;CN=Sean Daly:mailto:sdaly@sugarlabs.org
UID:ubkgaiukmq930vdjt4s4tfsd8c@google.com
ATTENDEE;CUTYPE=INDIVIDUAL;ROLE=REQ-PARTICIPANT;PARTSTAT=NEEDS-ACTION;RSVP=
 TRUE;CN=Sugar Labs Marketing;X-NUM-GUESTS=0:mailto:marketing@lists.sugarlab
 s.org
ATTENDEE;CUTYPE=INDIVIDUAL;ROLE=REQ-PARTICIPANT;PARTSTAT=ACCEPTED;RSVP=TRUE
 ;CN=Sean Daly;X-NUM-GUESTS=0:mailto:sdaly@sugarlabs.org
CLASS:PRIVATE
CREATED:20090414T134800Z
DESCRIPTION:View your event at http://www.google.com/calendar/event?action=
 VIEW&eid=dWJrZ2FpdWttcTkzMHZkanQ0czR0ZnNkOGMgbWFya2V0aW5nQGxpc3RzLnN1Z2FybG
 Ficy5vcmc&tok=MTkjc2RhbHlAc3VnYXJsYWJzLm9yZzFiNDhhMWJlYmUwMTY5MTc3ZjViNzc0Z
 DU0NjA1M2I2MjAxODc2NzU&ctz=Europe%2FBrussels&hl=en.
LAST-MODIFIED:20090414T134954Z
LOCATION:irc://irc.freenode.net#sugar-meeting
SEQUENCE:0
STATUS:CONFIRMED
SUMMARY:Sugar Labs Marketing Meeting
TRANSP:OPAQUE
END:VEVENT
END:VCALENDAR
