BEGIN:VCALENDAR
PRODID:-//Google Inc//Google Calendar 70.9054//EN
VERSION:2.0
CALSCALE:GREGORIAN
METHOD:REQUEST
BEGIN:VEVENT
DTSTART:20140612T140000Z
DTEND:20140612T150000Z
DTSTAMP:20140611T134437Z
ORGANIZER;CN=Claudia Urrea:mailto:callaurrea@gmail.com
UID:jko6gdeif7d99ubivn1g1h3q7g@google.com
ATTENDEE;CUTYPE=INDIVIDUAL;ROLE=REQ-PARTICIPANT;PARTSTAT=NEEDS-ACTION;RSVP=
 TRUE;CN=learning@lists.sugarlabs.org;X-NUM-GUESTS=0:mailto:learning@lists.s
 ugarlabs.org
ATTENDEE;CUTYPE=INDIVIDUAL;ROLE=REQ-PARTICIPANT;PARTSTAT=ACCEPTED;RSVP=TRUE
 ;CN=Claudia Urrea;X-NUM-GUESTS=0:mailto:callaurrea@gmail.com
CREATED:20140611T134436Z
DESCRIPTION:Charla de Sugar Labs sobre Brecha de genero \nView your event a
 t http://www.google.com/calendar/event?action=VIEW&eid=amtvNmdkZWlmN2Q5OXVi
 aXZuMWcxaDNxN2cgbGVhcm5pbmdAbGlzdHMuc3VnYXJsYWJzLm9yZw&tok=MjAjY2FsbGF1cnJl
 YUBnbWFpbC5jb202ODIyOTY2OTBkNDAzYzg4ZTQyNDQxNTRkYjcwZGMyMmE0MDNhZGI3&ctz=Am
 erica/New_York&hl=en.
LAST-MODIFIED:20140611T134436Z
LOCATION:http://chat.sugarlabs.org/
SEQUENCE:0
STATUS:CONFIRMED
SUMMARY:Charla de Sugar Labs sobre Brecha de genero - Junio 12 2014
TRANSP:OPAQUE
END:VEVENT
END:VCALENDAR
