BEGIN:VCALENDAR
PRODID:-//Google Inc//Google Calendar 70.9054//EN
VERSION:2.0
CALSCALE:GREGORIAN
METHOD:REQUEST
BEGIN:VEVENT
DTSTART:20090710T130000Z
DTEND:20090710T140000Z
DTSTAMP:20090709T225301Z
ORGANIZER;CN=Walter Bender:mailto:walter.bender@gmail.com
UID:b82j5nt4qfmsuo6sto73s4rrn0@google.com
ATTENDEE;CUTYPE=INDIVIDUAL;ROLE=REQ-PARTICIPANT;PARTSTAT=NEEDS-ACTION;RSVP=
 TRUE;CN=iaep;X-NUM-GUESTS=0:mailto:iaep@lists.sugarlabs.org
ATTENDEE;CUTYPE=INDIVIDUAL;ROLE=REQ-PARTICIPANT;PARTSTAT=ACCEPTED;RSVP=TRUE
 ;CN=Walter Bender;X-NUM-GUESTS=0:mailto:walter.bender@gmail.com
CLASS:PRIVATE
CREATED:20090709T225015Z
DESCRIPTION:The main topics are:\n\n1. elections\n2. trademark policy\n3. S
 ugar Camp\nView your event at http://www.google.com/calendar/hosted/sugarla
 bs.org/event?action=VIEW&eid=ZXBucDU1Y2J2MDlibmxndXZlMHJuZmx0dHNfMjAwOTA3MT
 dUMTMwMDAwWiB3YWx0ZXJAc3VnYXJsYWJzLm9yZw&tok=NTIjaDljZnVrMTA4OTRlbTdhOG1vZW
 1xdXVzbWdAZ3JvdXAuY2FsZW5kYXIuZ29vZ2xlLmNvbWI1MTg2MDY1NTQ1OWRkYzA1YWFmN2VlM
 jczMjVjYzM0OWU5ZWQ1ZmI&ctz=America%2FNew_York&hl=en.\nView your event at ht
 tp://www.google.com/calendar/event?action=VIEW&eid=YjgyajVudDRxZm1zdW82c3Rv
 NzNzNHJybjAgaWFlcEBsaXN0cy5zdWdhcmxhYnMub3Jn&tok=MjMjd2FsdGVyLmJlbmRlckBnbW
 FpbC5jb205MGE5ZGRlMTY3ODU4NjI3N2M3YTUwOWM4MDc1YWZlYTZiOTM1YWJh&ctz=America%
 2FNew_York&hl=en.
LAST-MODIFIED:20090709T225301Z
LOCATION:irc://irc.freenode.net#sugar-meeting
SEQUENCE:2
STATUS:CONFIRMED
SUMMARY:Sugar oversight board meeting
TRANSP:OPAQUE
END:VEVENT
END:VCALENDAR
