BEGIN:VCALENDAR
PRODID:-//Google Inc//Google Calendar 70.9054//EN
VERSION:2.0
CALSCALE:GREGORIAN
METHOD:REQUEST
BEGIN:VEVENT
DTSTART:20090413T170000Z
DTEND:20090413T180000Z
DTSTAMP:20090413T034519Z
ORGANIZER:mailto:6n9a99dr5knag9tp0obc0rncug@group.calendar.google.com
UID:dlv0ok0akcs9kjg4fi7k0083ns@google.com
ATTENDEE;CUTYPE=INDIVIDUAL;ROLE=REQ-PARTICIPANT;PARTSTAT=NEEDS-ACTION;RSVP=
 TRUE;CN=iaep@lists.sugarlabs.org;X-NUM-GUESTS=0:mailto:iaep@lists.sugarlabs
 .org
ATTENDEE;CUTYPE=INDIVIDUAL;ROLE=REQ-PARTICIPANT;PARTSTAT=NEEDS-ACTION;RSVP=
 TRUE;CN=sugar-devel@lists.sugarlabs.org;X-NUM-GUESTS=0:mailto:sugar-devel@l
 ists.sugarlabs.org
CLASS:PRIVATE
CREATED:20090413T034516Z
DESCRIPTION:There is an open agenda.\n\nPlease enter agenda items on this w
 iki page\,\nhttp://wiki.sugarlabs.org/go/Wiki_Team/Meetings\nView your even
 t at http://www.google.com/calendar/event?action=VIEW&eid=ZGx2MG9rMGFrY3M5a
 2pnNGZpN2swMDgzbnMgaWFlcEBsaXN0cy5zdWdhcmxhYnMub3Jn&tok=NTIjNm45YTk5ZHI1a25
 hZzl0cDBvYmMwcm5jdWdAZ3JvdXAuY2FsZW5kYXIuZ29vZ2xlLmNvbTM0Yzc3OTk3ZGUyNDZjNz
 k5ZTg1YThiYjk0NTQ0YzQwM2VhODc2MzI&ctz=America%2FNew_York&hl=en.
LAST-MODIFIED:20090413T034518Z
LOCATION:irc://irc.freenode.net#sugar-meeting
SEQUENCE:0
STATUS:CONFIRMED
SUMMARY:Wiki Team
TRANSP:OPAQUE
END:VEVENT
END:VCALENDAR
