BEGIN:VCALENDAR
PRODID:-//Google Inc//Google Calendar 70.9054//EN
VERSION:2.0
CALSCALE:GREGORIAN
METHOD:REQUEST
BEGIN:VEVENT
DTSTART:20090327T140000Z
DTEND:20090327T155000Z
DTSTAMP:20090320T221104Z
ORGANIZER:mailto:6n9a99dr5knag9tp0obc0rncug@group.calendar.google.com
UID:up5smfpe7mbtocsve5vk50p2jk@google.com
ATTENDEE;CUTYPE=INDIVIDUAL;ROLE=REQ-PARTICIPANT;PARTSTAT=NEEDS-ACTION;RSVP=
 TRUE;CN=FourthGradeMath@lists.sugarlabs.org;X-NUM-GUESTS=0:mailto:fourthgra
 demath@lists.sugarlabs.org
CLASS:PRIVATE
CREATED:20090320T221103Z
DESCRIPTION:Math4 RIT Team Seminar Session\nSee http://lists.sugarlabs.org/
 archive/fourthgrademath/2009-March/000120.html\n\n\nView your event at http
 ://www.google.com/calendar/event?action=VIEW&eid=dXA1c21mcGU3bWJ0b2NzdmU1dm
 s1MHAyamsgZm91cnRoZ3JhZGVtYXRoQGxpc3RzLnN1Z2FybGFicy5vcmc&tok=NTIjNm45YTk5Z
 HI1a25hZzl0cDBvYmMwcm5jdWdAZ3JvdXAuY2FsZW5kYXIuZ29vZ2xlLmNvbTA2MDBmYjgyNDg1
 MGQ4MDlhMWI3Yjc1MTQyOTM2YWNlYzRjZDI5MGE&ctz=America%2FNew_York&hl=en.
LAST-MODIFIED:20090320T221104Z
LOCATION:irc.freenode.net #fedora-olpc
SEQUENCE:0
STATUS:CONFIRMED
SUMMARY:Math4Team Project
TRANSP:OPAQUE
END:VEVENT
END:VCALENDAR
